BEGIN:VCALENDAR
PRODID:-//Calendar export
VERSION:2.0
X-WR-TIMEZONE:Etc/GMT
BEGIN:VTIMEZONE
TZID:GMT Standard Time
BEGIN:STANDARD
TZOFFSETFROM:+0000
TZOFFSETTO:+0000
END:STANDARD
END:VTIMEZONE
BEGIN:VEVENT
UID:AE78505
DTSTAMP:20260421T182700Z
SUMMARY:Alicia Bickett Psychic Medium Narrabri Bowling Club
CLASS:PUBLIC
DESCRIPTION:
STATUS:CONFIRMED
PRIORITY:1
DTSTART:20260730T140000Z
DTEND:20260731T135900Z
TRANSP:OPAQUE
END:VEVENT
END:VCALENDAR
